BEGIN:VCALENDAR
VERSION:2.0
CALSCALE:GREGORIAN
BEGIN:VEVENT
URL:https://www.learndesk.us/class/6606029947142144/lesson/45730bf60c43fc68805c0fe9acd28a49?ref=outlook-calendar
SUMMARY:Eliminating Cross-Browser Inconsistencies
DTSTART;TZID=America/Los_Angeles:20260423T190000
DTEND;TZID=America/Los_Angeles:20260423T200000
LOCATION:https://www.learndesk.us/class/6606029947142144/lesson/45730bf60c43fc68805c0fe9acd28a49?ref=outlook-calendar
DESCRIPTION: Your users use different browsers and each browser has its own defaults. Learn more about such defaults and how to start from a comparable basis in this lecture.

https://www.learndesk.us/class/6606029947142144/lesson/45730bf60c43fc68805c0fe9acd28a49?ref=outlook-calendar
STATUS:CONFIRMED
SEQUENCE:3
BEGIN:VALARM
TRIGGER:-PT10M
DESCRIPTION:Class Reminder
ACTION:DISPLAY
END:VALARM
END:VEVENT
END:VCALENDAR