BEGIN:VCALENDAR
VERSION:2.0
CALSCALE:GREGORIAN
BEGIN:VEVENT
URL:https://www.learndesk.us/class/6606029947142144/lesson/4475b572bd6260919354001eca0d813c?ref=outlook-calendar
SUMMARY:Understanding Hardware Pixels vs. Software Pixels
DTSTART;TZID=America/Los_Angeles:20260422T190000
DTEND;TZID=America/Los_Angeles:20260422T200000
LOCATION:https://www.learndesk.us/class/6606029947142144/lesson/4475b572bd6260919354001eca0d813c?ref=outlook-calendar
DESCRIPTION: A pixel is not a pixel, sounds strange doesn't it? With the latest smartphones and tablets and their corresponding high pixel density, the traditional 96px = 1inch formula doesn't work anymore, so let's find out how we can solve this problem.

https://www.learndesk.us/class/6606029947142144/lesson/4475b572bd6260919354001eca0d813c?ref=outlook-calendar
STATUS:CONFIRMED
SEQUENCE:3
BEGIN:VALARM
TRIGGER:-PT10M
DESCRIPTION:Class Reminder
ACTION:DISPLAY
END:VALARM
END:VEVENT
END:VCALENDAR