BEGIN:VCALENDAR
VERSION:2.0
CALSCALE:GREGORIAN
BEGIN:VEVENT
URL:https://www.learndesk.us/class/6606029947142144/lesson/43927585e0d4e3b4dc9c6cf77b27b4cc?ref=outlook-calendar
SUMMARY:Using CSS Animations
DTSTART;TZID=America/Los_Angeles:20260422T190000
DTEND;TZID=America/Los_Angeles:20260422T200000
LOCATION:https://www.learndesk.us/class/6606029947142144/lesson/43927585e0d4e3b4dc9c6cf77b27b4cc?ref=outlook-calendar
DESCRIPTION: Besides CSS transitions, we also got CSS animations. Time to dive into these.

https://www.learndesk.us/class/6606029947142144/lesson/43927585e0d4e3b4dc9c6cf77b27b4cc?ref=outlook-calendar
STATUS:CONFIRMED
SEQUENCE:3
BEGIN:VALARM
TRIGGER:-PT10M
DESCRIPTION:Class Reminder
ACTION:DISPLAY
END:VALARM
END:VEVENT
END:VCALENDAR