BEGIN:VCALENDAR
VERSION:2.0
CALSCALE:GREGORIAN
BEGIN:VEVENT
URL:https://www.learndesk.us/class/6606029947142144/lesson/42fc2cedc44e35438a2753f69e356a53?ref=outlook-calendar
SUMMARY:Understanding "background-size"
DTSTART;TZID=America/Los_Angeles:20260422T190000
DTEND;TZID=America/Los_Angeles:20260422T200000
LOCATION:https://www.learndesk.us/class/6606029947142144/lesson/42fc2cedc44e35438a2753f69e356a53?ref=outlook-calendar
DESCRIPTION: When working with backgrounds, we often want to change the size of background images. Learn more about the helpful background-size property.

https://www.learndesk.us/class/6606029947142144/lesson/42fc2cedc44e35438a2753f69e356a53?ref=outlook-calendar
STATUS:CONFIRMED
SEQUENCE:3
BEGIN:VALARM
TRIGGER:-PT10M
DESCRIPTION:Class Reminder
ACTION:DISPLAY
END:VALARM
END:VEVENT
END:VCALENDAR