BEGIN:VCALENDAR
VERSION:2.0
CALSCALE:GREGORIAN
BEGIN:VEVENT
URL:https://www.learndesk.us/class/6606029947142144/lesson/41502e43ff24d8b8de11e2cf2df121c0?ref=outlook-calendar
SUMMARY:Styling the Headline of the Core Features Section
DTSTART;TZID=America/Los_Angeles:20260422T190000
DTEND;TZID=America/Los_Angeles:20260422T200000
LOCATION:https://www.learndesk.us/class/6606029947142144/lesson/41502e43ff24d8b8de11e2cf2df121c0?ref=outlook-calendar
DESCRIPTION: Let's start styling the new section. A good starting point probably is the headline and the background.

https://www.learndesk.us/class/6606029947142144/lesson/41502e43ff24d8b8de11e2cf2df121c0?ref=outlook-calendar
STATUS:CONFIRMED
SEQUENCE:3
BEGIN:VALARM
TRIGGER:-PT10M
DESCRIPTION:Class Reminder
ACTION:DISPLAY
END:VALARM
END:VEVENT
END:VCALENDAR