BEGIN:VCALENDAR
VERSION:2.0
CALSCALE:GREGORIAN
BEGIN:VEVENT
URL:https://www.learndesk.us/class/6606029947142144/lesson/412aab6061d445695bb45b6177e70ff5?ref=outlook-calendar
SUMMARY:Improving the Navigation Bar with Flexbox
DTSTART;TZID=America/Los_Angeles:20260422T190000
DTEND;TZID=America/Los_Angeles:20260422T200000
LOCATION:https://www.learndesk.us/class/6606029947142144/lesson/412aab6061d445695bb45b6177e70ff5?ref=outlook-calendar
DESCRIPTION: After understanding the theory, it's time to apply our new knowledge to the project. The navigation bar generally works, but adding Flexbox to it would definitely be an improvement. Let's do it.

https://www.learndesk.us/class/6606029947142144/lesson/412aab6061d445695bb45b6177e70ff5?ref=outlook-calendar
STATUS:CONFIRMED
SEQUENCE:3
BEGIN:VALARM
TRIGGER:-PT10M
DESCRIPTION:Class Reminder
ACTION:DISPLAY
END:VALARM
END:VEVENT
END:VCALENDAR