BEGIN:VCALENDAR
VERSION:2.0
CALSCALE:GREGORIAN
BEGIN:VEVENT
URL:https://www.learndesk.us/class/6606029947142144/lesson/410a034a9883919141202f9a4207652a?ref=outlook-calendar
SUMMARY:(Not) using. Important
DTSTART;TZID=America/Los_Angeles:20260422T190000
DTEND;TZID=America/Los_Angeles:20260422T200000
LOCATION:https://www.learndesk.us/class/6606029947142144/lesson/410a034a9883919141202f9a4207652a?ref=outlook-calendar
DESCRIPTION: In very, very, very rare cases, you might need to force a certain declaration to overwrite the others, even though it normally wouldn't. Here comes, important.

https://www.learndesk.us/class/6606029947142144/lesson/410a034a9883919141202f9a4207652a?ref=outlook-calendar
STATUS:CONFIRMED
SEQUENCE:3
BEGIN:VALARM
TRIGGER:-PT10M
DESCRIPTION:Class Reminder
ACTION:DISPLAY
END:VALARM
END:VEVENT
END:VCALENDAR