BEGIN:VCALENDAR
VERSION:2.0
CALSCALE:GREGORIAN
BEGIN:VEVENT
URL:https://www.learndesk.us/class/6606029947142144/lesson/4031ddb1586f0fa6d43be8ecec04edf0?ref=outlook-calendar
SUMMARY:Improving the Footer
DTSTART;TZID=America/Los_Angeles:20260423T190000
DTEND;TZID=America/Los_Angeles:20260423T200000
LOCATION:https://www.learndesk.us/class/6606029947142144/lesson/4031ddb1586f0fa6d43be8ecec04edf0?ref=outlook-calendar
DESCRIPTION: We almost finished the shared elements for all pages on our website - time to work on the footer now.

https://www.learndesk.us/class/6606029947142144/lesson/4031ddb1586f0fa6d43be8ecec04edf0?ref=outlook-calendar
STATUS:CONFIRMED
SEQUENCE:3
BEGIN:VALARM
TRIGGER:-PT10M
DESCRIPTION:Class Reminder
ACTION:DISPLAY
END:VALARM
END:VEVENT
END:VCALENDAR