BEGIN:VCALENDAR
VERSION:2.0
CALSCALE:GREGORIAN
BEGIN:VEVENT
URL:https://www.learndesk.us/class/6606029947142144/lesson/3cf3b9e7aba334a957448e048f01c777?ref=outlook-calendar
SUMMARY:Time for some theory about the property syntax.
DTSTART;TZID=America/Los_Angeles:20260423T190000
DTEND;TZID=America/Los_Angeles:20260423T200000
LOCATION:https://www.learndesk.us/class/6606029947142144/lesson/3cf3b9e7aba334a957448e048f01c777?ref=outlook-calendar
DESCRIPTION: We got some cleanup to do - let's tackle that now.

https://www.learndesk.us/class/6606029947142144/lesson/3cf3b9e7aba334a957448e048f01c777?ref=outlook-calendar
STATUS:CONFIRMED
SEQUENCE:3
BEGIN:VALARM
TRIGGER:-PT10M
DESCRIPTION:Class Reminder
ACTION:DISPLAY
END:VALARM
END:VEVENT
END:VCALENDAR