BEGIN:VCALENDAR
VERSION:2.0
CALSCALE:GREGORIAN
BEGIN:VEVENT
URL:https://www.learndesk.us/class/6606029947142144/lesson/3b66aa51735c918dc2fcfef05c2ee8ca?ref=outlook-calendar
SUMMARY:Positioning the Entire Grid Content
DTSTART;TZID=America/Los_Angeles:20260422T190000
DTEND;TZID=America/Los_Angeles:20260422T200000
LOCATION:https://www.learndesk.us/class/6606029947142144/lesson/3b66aa51735c918dc2fcfef05c2ee8ca?ref=outlook-calendar
DESCRIPTION: We know how to position our Grid elements, but what if we want to change the position of our entire Grid inside our container? Let me show you how this works in this lecture.

https://www.learndesk.us/class/6606029947142144/lesson/3b66aa51735c918dc2fcfef05c2ee8ca?ref=outlook-calendar
STATUS:CONFIRMED
SEQUENCE:3
BEGIN:VALARM
TRIGGER:-PT10M
DESCRIPTION:Class Reminder
ACTION:DISPLAY
END:VALARM
END:VEVENT
END:VCALENDAR