BEGIN:VCALENDAR
VERSION:2.0
CALSCALE:GREGORIAN
BEGIN:VEVENT
URL:https://www.learndesk.us/class/6606029947142144/lesson/3a8f5f43f8c4587b5ceb261ef895fceb?ref=outlook-calendar
SUMMARY:Adding "letter-spacing"
DTSTART;TZID=America/Los_Angeles:20260422T190000
DTEND;TZID=America/Los_Angeles:20260422T200000
LOCATION:https://www.learndesk.us/class/6606029947142144/lesson/3a8f5f43f8c4587b5ceb261ef895fceb?ref=outlook-calendar
DESCRIPTION: There are more properties available for our font so let me introduce "letter-spacing" and "white-space" in this lecture.

https://www.learndesk.us/class/6606029947142144/lesson/3a8f5f43f8c4587b5ceb261ef895fceb?ref=outlook-calendar
STATUS:CONFIRMED
SEQUENCE:3
BEGIN:VALARM
TRIGGER:-PT10M
DESCRIPTION:Class Reminder
ACTION:DISPLAY
END:VALARM
END:VEVENT
END:VCALENDAR