BEGIN:VCALENDAR
VERSION:2.0
CALSCALE:GREGORIAN
BEGIN:VEVENT
URL:https://www.learndesk.us/class/6606029947142144/lesson/38f6b36ec4103f674d143140973cbc50?ref=outlook-calendar
SUMMARY:Understanding the "font-family" Syntax
DTSTART;TZID=America/Los_Angeles:20260423T190000
DTEND;TZID=America/Los_Angeles:20260423T200000
LOCATION:https://www.learndesk.us/class/6606029947142144/lesson/38f6b36ec4103f674d143140973cbc50?ref=outlook-calendar
DESCRIPTION: Using a specific font family is great as it improves the look of our website. But what if a specific font family is not available for one of our users? Let's have a look at the "font-family" syntax and learn how we can add a fallback for such cases.

https://www.learndesk.us/class/6606029947142144/lesson/38f6b36ec4103f674d143140973cbc50?ref=outlook-calendar
STATUS:CONFIRMED
SEQUENCE:3
BEGIN:VALARM
TRIGGER:-PT10M
DESCRIPTION:Class Reminder
ACTION:DISPLAY
END:VALARM
END:VEVENT
END:VCALENDAR