BEGIN:VCALENDAR
VERSION:2.0
CALSCALE:GREGORIAN
BEGIN:VEVENT
URL:https://www.learndesk.us/class/6606029947142144/lesson/387691486b249f6e54393139f7a12a04?ref=outlook-calendar
SUMMARY:Using the Grid on our Project
DTSTART;TZID=America/Los_Angeles:20260422T190000
DTEND;TZID=America/Los_Angeles:20260422T200000
LOCATION:https://www.learndesk.us/class/6606029947142144/lesson/387691486b249f6e54393139f7a12a04?ref=outlook-calendar
DESCRIPTION: Enough of the theory for now, let's apply some of the concepts we learned so far to our project. Let's start by using the Grid layout for the navigation bar and the footer.

https://www.learndesk.us/class/6606029947142144/lesson/387691486b249f6e54393139f7a12a04?ref=outlook-calendar
STATUS:CONFIRMED
SEQUENCE:3
BEGIN:VALARM
TRIGGER:-PT10M
DESCRIPTION:Class Reminder
ACTION:DISPLAY
END:VALARM
END:VEVENT
END:VCALENDAR