BEGIN:VCALENDAR
VERSION:2.0
CALSCALE:GREGORIAN
BEGIN:VEVENT
URL:https://www.learndesk.us/class/6606029947142144/lesson/381e2ab34b5efdd4b5015c0df59642b3?ref=outlook-calendar
SUMMARY:Adding Mixins
DTSTART;TZID=America/Los_Angeles:20260423T190000
DTEND;TZID=America/Los_Angeles:20260423T200000
LOCATION:https://www.learndesk.us/class/6606029947142144/lesson/381e2ab34b5efdd4b5015c0df59642b3?ref=outlook-calendar
DESCRIPTION: Another very cool feature of Sass are "Mixins". Now what's that?

https://www.learndesk.us/class/6606029947142144/lesson/381e2ab34b5efdd4b5015c0df59642b3?ref=outlook-calendar
STATUS:CONFIRMED
SEQUENCE:3
BEGIN:VALARM
TRIGGER:-PT10M
DESCRIPTION:Class Reminder
ACTION:DISPLAY
END:VALARM
END:VEVENT
END:VCALENDAR