BEGIN:VCALENDAR
VERSION:2.0
CALSCALE:GREGORIAN
BEGIN:VEVENT
URL:https://www.learndesk.us/class/6606029947142144/lesson/36d9a1c52092be75c8d54a9fa92d8159?ref=outlook-calendar
SUMMARY:Styling the Signup Button
DTSTART;TZID=America/Los_Angeles:20260424T190000
DTEND;TZID=America/Los_Angeles:20260424T200000
LOCATION:https://www.learndesk.us/class/6606029947142144/lesson/36d9a1c52092be75c8d54a9fa92d8159?ref=outlook-calendar
DESCRIPTION: What would a form be without a button? Not that useful, hence you should also know how to style such buttons.

https://www.learndesk.us/class/6606029947142144/lesson/36d9a1c52092be75c8d54a9fa92d8159?ref=outlook-calendar
STATUS:CONFIRMED
SEQUENCE:3
BEGIN:VALARM
TRIGGER:-PT10M
DESCRIPTION:Class Reminder
ACTION:DISPLAY
END:VALARM
END:VEVENT
END:VCALENDAR