BEGIN:VCALENDAR
VERSION:2.0
CALSCALE:GREGORIAN
BEGIN:VEVENT
URL:https://www.learndesk.us/class/6606029947142144/lesson/368a605c92c252c87dd83a9c3f580ffd?ref=outlook-calendar
SUMMARY:Working with "overflow" and Relative Positioning
DTSTART;TZID=America/Los_Angeles:20260422T190000
DTEND;TZID=America/Los_Angeles:20260422T200000
LOCATION:https://www.learndesk.us/class/6606029947142144/lesson/368a605c92c252c87dd83a9c3f580ffd?ref=outlook-calendar
DESCRIPTION: With "relative" we can move our element without any limitations - even outside of its parent. In case this is our intention that's ok, but what if we want to make the element invisible once it leaves the parent element? Then we need "overflow".

https://www.learndesk.us/class/6606029947142144/lesson/368a605c92c252c87dd83a9c3f580ffd?ref=outlook-calendar
STATUS:CONFIRMED
SEQUENCE:3
BEGIN:VALARM
TRIGGER:-PT10M
DESCRIPTION:Class Reminder
ACTION:DISPLAY
END:VALARM
END:VEVENT
END:VCALENDAR