BEGIN:VCALENDAR
VERSION:2.0
CALSCALE:GREGORIAN
BEGIN:VEVENT
URL:https://www.learndesk.us/class/6606029947142144/lesson/3630e2c6d8d59117dc87db898404b52b?ref=outlook-calendar
SUMMARY:Designing Websites "Mobile First"
DTSTART;TZID=America/Los_Angeles:20260422T190000
DTEND;TZID=America/Los_Angeles:20260422T200000
LOCATION:https://www.learndesk.us/class/6606029947142144/lesson/3630e2c6d8d59117dc87db898404b52b?ref=outlook-calendar
DESCRIPTION: We just learned how CSS works, so styling our website "Desktop First" was the right approach. With the basics set, we should change that as "Mobile First" is the modern way to style websites. Time to do that.

https://www.learndesk.us/class/6606029947142144/lesson/3630e2c6d8d59117dc87db898404b52b?ref=outlook-calendar
STATUS:CONFIRMED
SEQUENCE:3
BEGIN:VALARM
TRIGGER:-PT10M
DESCRIPTION:Class Reminder
ACTION:DISPLAY
END:VALARM
END:VEVENT
END:VCALENDAR