BEGIN:VCALENDAR
VERSION:2.0
CALSCALE:GREGORIAN
BEGIN:VEVENT
URL:https://www.learndesk.us/class/6606029947142144/lesson/343288d9c0f017e3aa49ad36d1828560?ref=outlook-calendar
SUMMARY:Wrap Up
DTSTART;TZID=America/Los_Angeles:20260422T190000
DTEND;TZID=America/Los_Angeles:20260422T200000
LOCATION:https://www.learndesk.us/class/6606029947142144/lesson/343288d9c0f017e3aa49ad36d1828560?ref=outlook-calendar
DESCRIPTION: Let wrap this module up and summarize what you learned thus far.

https://www.learndesk.us/class/6606029947142144/lesson/343288d9c0f017e3aa49ad36d1828560?ref=outlook-calendar
STATUS:CONFIRMED
SEQUENCE:3
BEGIN:VALARM
TRIGGER:-PT10M
DESCRIPTION:Class Reminder
ACTION:DISPLAY
END:VALARM
END:VEVENT
END:VCALENDAR