BEGIN:VCALENDAR
VERSION:2.0
CALSCALE:GREGORIAN
BEGIN:VEVENT
URL:https://www.learndesk.us/class/6606029947142144/lesson/30fb1b82b1848f626bfbe9840a0496eb?ref=outlook-calendar
SUMMARY:Understanding the Box Mode
DTSTART;TZID=America/Los_Angeles:20260423T190000
DTEND;TZID=America/Los_Angeles:20260423T200000
LOCATION:https://www.learndesk.us/class/6606029947142144/lesson/30fb1b82b1848f626bfbe9840a0496eb?ref=outlook-calendar
DESCRIPTION: Content, padding, border, margin - we found and understood these parts of the box model. Let's now take a closer look at it and also understand the box model concept in connection with parent and child elements.

https://www.learndesk.us/class/6606029947142144/lesson/30fb1b82b1848f626bfbe9840a0496eb?ref=outlook-calendar
STATUS:CONFIRMED
SEQUENCE:3
BEGIN:VALARM
TRIGGER:-PT10M
DESCRIPTION:Class Reminder
ACTION:DISPLAY
END:VALARM
END:VEVENT
END:VCALENDAR