BEGIN:VCALENDAR
VERSION:2.0
CALSCALE:GREGORIAN
BEGIN:VEVENT
URL:https://www.learndesk.us/class/6606029947142144/lesson/30e7758211a09f7a763c32ca99248c62?ref=outlook-calendar
SUMMARY:Cleaning Up the Navigation Bar
DTSTART;TZID=America/Los_Angeles:20260422T190000
DTEND;TZID=America/Los_Angeles:20260422T200000
LOCATION:https://www.learndesk.us/class/6606029947142144/lesson/30e7758211a09f7a763c32ca99248c62?ref=outlook-calendar
DESCRIPTION: Our navigation bar looks fine, but the calculation logic of our logo height is not perfect. Let's make our code leaner and clean up the navigation bar.

https://www.learndesk.us/class/6606029947142144/lesson/30e7758211a09f7a763c32ca99248c62?ref=outlook-calendar
STATUS:CONFIRMED
SEQUENCE:3
BEGIN:VALARM
TRIGGER:-PT10M
DESCRIPTION:Class Reminder
ACTION:DISPLAY
END:VALARM
END:VEVENT
END:VCALENDAR