BEGIN:VCALENDAR
VERSION:2.0
CALSCALE:GREGORIAN
BEGIN:VEVENT
URL:https://www.learndesk.us/class/6606029947142144/lesson/300cedbe26ddb6faf7fead143cff5dde?ref=outlook-calendar
SUMMARY:Storing Lists and Maps in Variables
DTSTART;TZID=America/Los_Angeles:20260422T190000
DTEND;TZID=America/Los_Angeles:20260422T200000
LOCATION:https://www.learndesk.us/class/6606029947142144/lesson/300cedbe26ddb6faf7fead143cff5dde?ref=outlook-calendar
DESCRIPTION: Instead of using simple variables, you can also create more complex maps of data.

https://www.learndesk.us/class/6606029947142144/lesson/300cedbe26ddb6faf7fead143cff5dde?ref=outlook-calendar
STATUS:CONFIRMED
SEQUENCE:3
BEGIN:VALARM
TRIGGER:-PT10M
DESCRIPTION:Class Reminder
ACTION:DISPLAY
END:VALARM
END:VEVENT
END:VCALENDAR