BEGIN:VCALENDAR
VERSION:2.0
CALSCALE:GREGORIAN
BEGIN:VEVENT
URL:https://www.learndesk.us/class/6606029947142144/lesson/2fbcb937c48ea98af5bd343a6d0b2615?ref=outlook-calendar
SUMMARY:Preparing the Content of the Key Feature Area
DTSTART;TZID=America/Los_Angeles:20260423T190000
DTEND;TZID=America/Los_Angeles:20260423T200000
LOCATION:https://www.learndesk.us/class/6606029947142144/lesson/2fbcb937c48ea98af5bd343a6d0b2615?ref=outlook-calendar
DESCRIPTION: Time to style the list which includes our core website features. As these are presented as list items, we can apply our previous knowledge to change the list style. Additionally, we should align the features.

https://www.learndesk.us/class/6606029947142144/lesson/2fbcb937c48ea98af5bd343a6d0b2615?ref=outlook-calendar
STATUS:CONFIRMED
SEQUENCE:3
BEGIN:VALARM
TRIGGER:-PT10M
DESCRIPTION:Class Reminder
ACTION:DISPLAY
END:VALARM
END:VEVENT
END:VCALENDAR