BEGIN:VCALENDAR
VERSION:2.0
CALSCALE:GREGORIAN
BEGIN:VEVENT
URL:https://www.learndesk.us/class/6606029947142144/lesson/2f676ed66bb94bd26c1edee878cad3c5?ref=outlook-calendar
SUMMARY:CSS History, Present and Future
DTSTART;TZID=America/Los_Angeles:20260423T190000
DTEND;TZID=America/Los_Angeles:20260423T200000
LOCATION:https://www.learndesk.us/class/6606029947142144/lesson/2f676ed66bb94bd26c1edee878cad3c5?ref=outlook-calendar
DESCRIPTION: CSS constantly evolves so the author gives you a quick overview of the past and the current development of CSS.

https://www.learndesk.us/class/6606029947142144/lesson/2f676ed66bb94bd26c1edee878cad3c5?ref=outlook-calendar
STATUS:CONFIRMED
SEQUENCE:3
BEGIN:VALARM
TRIGGER:-PT10M
DESCRIPTION:Class Reminder
ACTION:DISPLAY
END:VALARM
END:VEVENT
END:VCALENDAR