BEGIN:VCALENDAR
VERSION:2.0
CALSCALE:GREGORIAN
BEGIN:VEVENT
URL:https://www.learndesk.us/class/6606029947142144/lesson/2e03656b78dae8a4f51a14b67af66100?ref=outlook-calendar
SUMMARY:Adding a Background Image to our Project
DTSTART;TZID=America/Los_Angeles:20260422T190000
DTEND;TZID=America/Los_Angeles:20260422T200000
LOCATION:https://www.learndesk.us/class/6606029947142144/lesson/2e03656b78dae8a4f51a14b67af66100?ref=outlook-calendar
DESCRIPTION: The red block level element in the background is ok, but I think a real background image definitely would improve the user experience. Let's learn how we can easily add such an image in this video.

https://www.learndesk.us/class/6606029947142144/lesson/2e03656b78dae8a4f51a14b67af66100?ref=outlook-calendar
STATUS:CONFIRMED
SEQUENCE:3
BEGIN:VALARM
TRIGGER:-PT10M
DESCRIPTION:Class Reminder
ACTION:DISPLAY
END:VALARM
END:VEVENT
END:VCALENDAR