BEGIN:VCALENDAR
VERSION:2.0
CALSCALE:GREGORIAN
BEGIN:VEVENT
URL:https://www.learndesk.us/class/6606029947142144/lesson/2c54c735c2bed7c379c495ce7a4cfead?ref=outlook-calendar
SUMMARY:Comparing the Explicit and Implicit Grid
DTSTART;TZID=America/Los_Angeles:20260422T190000
DTEND;TZID=America/Los_Angeles:20260422T200000
LOCATION:https://www.learndesk.us/class/6606029947142144/lesson/2c54c735c2bed7c379c495ce7a4cfead?ref=outlook-calendar
DESCRIPTION: We saw that we can either define parts of the Grid manually or simply let the Grid generate the rows and columns automatically. Let's have a look at these approaches again and understand the difference between the explicit and the implicit Grid.

https://www.learndesk.us/class/6606029947142144/lesson/2c54c735c2bed7c379c495ce7a4cfead?ref=outlook-calendar
STATUS:CONFIRMED
SEQUENCE:3
BEGIN:VALARM
TRIGGER:-PT10M
DESCRIPTION:Class Reminder
ACTION:DISPLAY
END:VALARM
END:VEVENT
END:VCALENDAR