BEGIN:VCALENDAR
VERSION:2.0
CALSCALE:GREGORIAN
BEGIN:VEVENT
URL:https://www.learndesk.us/class/6606029947142144/lesson/2ad245e7caba3af21c55ab68cde8f140?ref=outlook-calendar
SUMMARY:Positioning Elements Individually
DTSTART;TZID=America/Los_Angeles:20260425T190000
DTEND;TZID=America/Los_Angeles:20260425T200000
LOCATION:https://www.learndesk.us/class/6606029947142144/lesson/2ad245e7caba3af21c55ab68cde8f140?ref=outlook-calendar
DESCRIPTION: We already learned how to change the position of all elements inside our Grid container. But is it also possible to change the position of a single element? Yes it is, so time to learn how this works.

https://www.learndesk.us/class/6606029947142144/lesson/2ad245e7caba3af21c55ab68cde8f140?ref=outlook-calendar
STATUS:CONFIRMED
SEQUENCE:3
BEGIN:VALARM
TRIGGER:-PT10M
DESCRIPTION:Class Reminder
ACTION:DISPLAY
END:VALARM
END:VEVENT
END:VCALENDAR