BEGIN:VCALENDAR
VERSION:2.0
CALSCALE:GREGORIAN
BEGIN:VEVENT
URL:https://www.learndesk.us/class/6606029947142144/lesson/28a755cd940a78738ed81fc5e26d173e?ref=outlook-calendar
SUMMARY:Defining Columns and Rows
DTSTART;TZID=America/Los_Angeles:20260422T190000
DTEND;TZID=America/Los_Angeles:20260422T200000
LOCATION:https://www.learndesk.us/class/6606029947142144/lesson/28a755cd940a78738ed81fc5e26d173e?ref=outlook-calendar
DESCRIPTION: With the first steps done it's time to dive deeper. In this lecture we will add "grid-template-columns" and "grid-template-rows" to overwrite the default settings and to define the column and row sizes on our own.

https://www.learndesk.us/class/6606029947142144/lesson/28a755cd940a78738ed81fc5e26d173e?ref=outlook-calendar
STATUS:CONFIRMED
SEQUENCE:3
BEGIN:VALARM
TRIGGER:-PT10M
DESCRIPTION:Class Reminder
ACTION:DISPLAY
END:VALARM
END:VEVENT
END:VCALENDAR