BEGIN:VCALENDAR
VERSION:2.0
CALSCALE:GREGORIAN
BEGIN:VEVENT
URL:https://www.learndesk.us/class/6606029947142144/lesson/264ffb0e53e3228f0410ef1bc7de470b?ref=outlook-calendar
SUMMARY:Positioning Grid Elements
DTSTART;TZID=America/Los_Angeles:20260425T190000
DTEND;TZID=America/Los_Angeles:20260425T200000
LOCATION:https://www.learndesk.us/class/6606029947142144/lesson/264ffb0e53e3228f0410ef1bc7de470b?ref=outlook-calendar
DESCRIPTION: Time to go back to our "theory" project and have a closer look at positioning: Let's find out how we can position elements inside a Grid, because until now each element uses the full space available in its cell. Turns out that we can change this default behaviour.

https://www.learndesk.us/class/6606029947142144/lesson/264ffb0e53e3228f0410ef1bc7de470b?ref=outlook-calendar
STATUS:CONFIRMED
SEQUENCE:3
BEGIN:VALARM
TRIGGER:-PT10M
DESCRIPTION:Class Reminder
ACTION:DISPLAY
END:VALARM
END:VEVENT
END:VCALENDAR