BEGIN:VCALENDAR
VERSION:2.0
CALSCALE:GREGORIAN
BEGIN:VEVENT
URL:https://www.learndesk.us/class/6606029947142144/lesson/250689406648ba626a2dbefe4c6dd43e?ref=outlook-calendar
SUMMARY:Adding and Styling Forms
DTSTART;TZID=America/Los_Angeles:20260423T190000
DTEND;TZID=America/Los_Angeles:20260423T200000
LOCATION:https://www.learndesk.us/class/6606029947142144/lesson/250689406648ba626a2dbefe4c6dd43e?ref=outlook-calendar
DESCRIPTION: 
In this section, we add an unstyled font and later features to it.

Module Introduction
Adding the Unstyled Form
Page Initialization
Understanding Advanced Attribute Selectors
Working on the General Layout
Restyling the Form Elements
Styling the Checkbox
Providing Validation Feedback
Styling the Signup Button
Wrap Up

 


https://www.learndesk.us/class/6606029947142144/lesson/250689406648ba626a2dbefe4c6dd43e?ref=outlook-calendar
STATUS:CONFIRMED
SEQUENCE:3
BEGIN:VALARM
TRIGGER:-PT10M
DESCRIPTION:Class Reminder
ACTION:DISPLAY
END:VALARM
END:VEVENT
END:VCALENDAR