BEGIN:VCALENDAR
VERSION:2.0
CALSCALE:GREGORIAN
BEGIN:VEVENT
URL:https://www.learndesk.us/class/6606029947142144/lesson/25043f8435adcc42840ad3f8e5d56458?ref=outlook-calendar
SUMMARY:What's Wrong With Our Project Units?
DTSTART;TZID=America/Los_Angeles:20260422T190000
DTEND;TZID=America/Los_Angeles:20260422T200000
LOCATION:https://www.learndesk.us/class/6606029947142144/lesson/25043f8435adcc42840ad3f8e5d56458?ref=outlook-calendar
DESCRIPTION: Our website doesn't look bad and thus far we only used pixels ("px") and percentages ("%") to define the width, padding, font-size, etc. What's wrong with that approach? Let me show you why we might want to improve that.

https://www.learndesk.us/class/6606029947142144/lesson/25043f8435adcc42840ad3f8e5d56458?ref=outlook-calendar
STATUS:CONFIRMED
SEQUENCE:3
BEGIN:VALARM
TRIGGER:-PT10M
DESCRIPTION:Class Reminder
ACTION:DISPLAY
END:VALARM
END:VEVENT
END:VCALENDAR