BEGIN:VCALENDAR
VERSION:2.0
CALSCALE:GREGORIAN
BEGIN:VEVENT
URL:https://www.learndesk.us/class/6606029947142144/lesson/233972b55005255c479e7b282241de95?ref=outlook-calendar
SUMMARY:Styling and Positioning our Badge with "absolute" and "relative"
DTSTART;TZID=America/Los_Angeles:20260422T190000
DTEND;TZID=America/Los_Angeles:20260422T200000
LOCATION:https://www.learndesk.us/class/6606029947142144/lesson/233972b55005255c479e7b282241de95?ref=outlook-calendar
DESCRIPTION: We added the badge but the positioning is not perfect yet and we definitely need to add more style to it. So let's continue.

https://www.learndesk.us/class/6606029947142144/lesson/233972b55005255c479e7b282241de95?ref=outlook-calendar
STATUS:CONFIRMED
SEQUENCE:3
BEGIN:VALARM
TRIGGER:-PT10M
DESCRIPTION:Class Reminder
ACTION:DISPLAY
END:VALARM
END:VEVENT
END:VCALENDAR