BEGIN:VCALENDAR
VERSION:2.0
CALSCALE:GREGORIAN
BEGIN:VEVENT
URL:https://www.learndesk.us/class/6606029947142144/lesson/22a930400a77b78c11f390b4a80c4484?ref=outlook-calendar
SUMMARY:Adding our First Media Queries
DTSTART;TZID=America/Los_Angeles:20260422T190000
DTEND;TZID=America/Los_Angeles:20260422T200000
LOCATION:https://www.learndesk.us/class/6606029947142144/lesson/22a930400a77b78c11f390b4a80c4484?ref=outlook-calendar
DESCRIPTION: The mobile version of our background image on the starting page looks ok, but now we destroyed the desktop version. Time to understand the basic concepts of media queries and how these allow us to make our site responsive.

https://www.learndesk.us/class/6606029947142144/lesson/22a930400a77b78c11f390b4a80c4484?ref=outlook-calendar
STATUS:CONFIRMED
SEQUENCE:3
BEGIN:VALARM
TRIGGER:-PT10M
DESCRIPTION:Class Reminder
ACTION:DISPLAY
END:VALARM
END:VEVENT
END:VCALENDAR