BEGIN:VCALENDAR
VERSION:2.0
CALSCALE:GREGORIAN
BEGIN:VEVENT
URL:https://www.learndesk.us/class/6606029947142144/lesson/1f9d58f50b9113a70b4e92ddd8261ab1?ref=outlook-calendar
SUMMARY:Understanding Flexbox
DTSTART;TZID=America/Los_Angeles:20260422T190000
DTEND;TZID=America/Los_Angeles:20260422T200000
LOCATION:https://www.learndesk.us/class/6606029947142144/lesson/1f9d58f50b9113a70b4e92ddd8261ab1?ref=outlook-calendar
DESCRIPTION: We want to avoid "inline-block" and make our code leaner, but why could Flexbox help us here? Let me introduce you to the general idea of Flexbox in this lecture.

https://www.learndesk.us/class/6606029947142144/lesson/1f9d58f50b9113a70b4e92ddd8261ab1?ref=outlook-calendar
STATUS:CONFIRMED
SEQUENCE:3
BEGIN:VALARM
TRIGGER:-PT10M
DESCRIPTION:Class Reminder
ACTION:DISPLAY
END:VALARM
END:VEVENT
END:VCALENDAR