BEGIN:VCALENDAR
VERSION:2.0
CALSCALE:GREGORIAN
BEGIN:VEVENT
URL:https://www.learndesk.us/class/6606029947142144/lesson/1eebcbb3991054acda616f4d356b774f?ref=outlook-calendar
SUMMARY:Adding Named Template Areas
DTSTART;TZID=America/Los_Angeles:20260423T190000
DTEND;TZID=America/Los_Angeles:20260423T200000
LOCATION:https://www.learndesk.us/class/6606029947142144/lesson/1eebcbb3991054acda616f4d356b774f?ref=outlook-calendar
DESCRIPTION: Time to dive deeper. Let's understand how we can devide our Grid into separate areas and then define which part of this area specific elements should occupy

https://www.learndesk.us/class/6606029947142144/lesson/1eebcbb3991054acda616f4d356b774f?ref=outlook-calendar
STATUS:CONFIRMED
SEQUENCE:3
BEGIN:VALARM
TRIGGER:-PT10M
DESCRIPTION:Class Reminder
ACTION:DISPLAY
END:VALARM
END:VEVENT
END:VCALENDAR