BEGIN:VCALENDAR
VERSION:2.0
CALSCALE:GREGORIAN
BEGIN:VEVENT
URL:https://www.learndesk.us/class/6606029947142144/lesson/19b4dc1182ff71289df606495e436f6c?ref=outlook-calendar
SUMMARY:Understanding Linear Gradients
DTSTART;TZID=America/Los_Angeles:20260425T190000
DTEND;TZID=America/Los_Angeles:20260425T200000
LOCATION:https://www.learndesk.us/class/6606029947142144/lesson/19b4dc1182ff71289df606495e436f6c?ref=outlook-calendar
DESCRIPTION: Enough about images. We can also create gradients in CSS. Let's dive into linear gradients in this lecture.

https://www.learndesk.us/class/6606029947142144/lesson/19b4dc1182ff71289df606495e436f6c?ref=outlook-calendar
STATUS:CONFIRMED
SEQUENCE:3
BEGIN:VALARM
TRIGGER:-PT10M
DESCRIPTION:Class Reminder
ACTION:DISPLAY
END:VALARM
END:VEVENT
END:VCALENDAR