BEGIN:VCALENDAR
VERSION:2.0
CALSCALE:GREGORIAN
BEGIN:VEVENT
URL:https://www.learndesk.us/class/6606029947142144/lesson/195e1c7728f84347d78fc2a9b1a7823e?ref=outlook-calendar
SUMMARY:Using JavaScript Animation Event Listeners
DTSTART;TZID=America/Los_Angeles:20260422T190000
DTEND;TZID=America/Los_Angeles:20260422T200000
LOCATION:https://www.learndesk.us/class/6606029947142144/lesson/195e1c7728f84347d78fc2a9b1a7823e?ref=outlook-calendar
DESCRIPTION: CSS animations also trigger useful events to which we can listen via JavaScript. Learn more about that in this lecture.

https://www.learndesk.us/class/6606029947142144/lesson/195e1c7728f84347d78fc2a9b1a7823e?ref=outlook-calendar
STATUS:CONFIRMED
SEQUENCE:3
BEGIN:VALARM
TRIGGER:-PT10M
DESCRIPTION:Class Reminder
ACTION:DISPLAY
END:VALARM
END:VEVENT
END:VCALENDAR