BEGIN:VCALENDAR
VERSION:2.0
CALSCALE:GREGORIAN
BEGIN:VEVENT
URL:https://www.learndesk.us/class/6606029947142144/lesson/18e4c82d53542c7fe22fa1d81fb835c9?ref=outlook-calendar
SUMMARY:Understanding Box Sizing
DTSTART;TZID=America/Los_Angeles:20260422T190000
DTEND;TZID=America/Los_Angeles:20260422T200000
LOCATION:https://www.learndesk.us/class/6606029947142144/lesson/18e4c82d53542c7fe22fa1d81fb835c9?ref=outlook-calendar
DESCRIPTION: We changed the "height" and the "width", but what was actually changed? Let's dive into the "box-sizing" property and also learn, how we can use this property to change the default behaviour of the "height" and "width" properties.

https://www.learndesk.us/class/6606029947142144/lesson/18e4c82d53542c7fe22fa1d81fb835c9?ref=outlook-calendar
STATUS:CONFIRMED
SEQUENCE:3
BEGIN:VALARM
TRIGGER:-PT10M
DESCRIPTION:Class Reminder
ACTION:DISPLAY
END:VALARM
END:VEVENT
END:VCALENDAR