BEGIN:VCALENDAR
VERSION:2.0
CALSCALE:GREGORIAN
BEGIN:VEVENT
URL:https://www.learndesk.us/class/6606029947142144/lesson/18d39433199aa71ad0ef204a5bcc9084?ref=outlook-calendar
SUMMARY:Creating a Flex Container
DTSTART;TZID=America/Los_Angeles:20260422T190000
DTEND;TZID=America/Los_Angeles:20260422T200000
LOCATION:https://www.learndesk.us/class/6606029947142144/lesson/18d39433199aa71ad0ef204a5bcc9084?ref=outlook-calendar
DESCRIPTION: 
Time to create our first Flex Container. Let's learn how this works and which different Flex Container types we can create in this video.


https://www.learndesk.us/class/6606029947142144/lesson/18d39433199aa71ad0ef204a5bcc9084?ref=outlook-calendar
STATUS:CONFIRMED
SEQUENCE:3
BEGIN:VALARM
TRIGGER:-PT10M
DESCRIPTION:Class Reminder
ACTION:DISPLAY
END:VALARM
END:VEVENT
END:VCALENDAR