BEGIN:VCALENDAR
VERSION:2.0
CALSCALE:GREGORIAN
BEGIN:VEVENT
URL:https://www.learndesk.us/class/6606029947142144/lesson/163973227a28827b228a3510cea93be6?ref=outlook-calendar
SUMMARY:Making our Website Responsive
DTSTART;TZID=America/Los_Angeles:20260422T190000
DTEND;TZID=America/Los_Angeles:20260422T200000
LOCATION:https://www.learndesk.us/class/6606029947142144/lesson/163973227a28827b228a3510cea93be6?ref=outlook-calendar
DESCRIPTION: 
In this section, me make our site responsive to the customer.

Module Introduction
Why our Project Should Become Responsive
Understanding Hardware Pixels vs. Software Pixels
Comparing the Viewport Metatag (HTML) and Media Queries (CSS)
Understanding the "viewport" Metatag
Designing Websites "Mobile First"
Adding our First Media Queries
Things to Keep in Mind when Working with Media Queries
Finding the Right Breaking Points
Creating the Mobile First Design for our Plans
Making the Plans Responsive
Your Challenge
Working with Logical Operators
Improving the Customers Page
Improving the Packages Page
Cleaning Up the Navigation Bar
Positioning our Footer Correctly
Wrap Up



https://www.learndesk.us/class/6606029947142144/lesson/163973227a28827b228a3510cea93be6?ref=outlook-calendar
STATUS:CONFIRMED
SEQUENCE:3
BEGIN:VALARM
TRIGGER:-PT10M
DESCRIPTION:Class Reminder
ACTION:DISPLAY
END:VALARM
END:VEVENT
END:VCALENDAR