BEGIN:VCALENDAR
VERSION:2.0
CALSCALE:GREGORIAN
BEGIN:VEVENT
URL:https://www.learndesk.us/class/6606029947142144/lesson/15ff2e00725516ddb108b7f85298d7cb?ref=outlook-calendar
SUMMARY:Advanced Element Positioning
DTSTART;TZID=America/Los_Angeles:20260425T190000
DTEND;TZID=America/Los_Angeles:20260425T200000
LOCATION:https://www.learndesk.us/class/6606029947142144/lesson/15ff2e00725516ddb108b7f85298d7cb?ref=outlook-calendar
DESCRIPTION: Until now we only positioned our elements by defining the lines and column numbers. Let me show you alternative ways how to achieve this by using "span" and negative line numbers. Additionally, we'll find out if elements can overlap inside a CSS Grid.

https://www.learndesk.us/class/6606029947142144/lesson/15ff2e00725516ddb108b7f85298d7cb?ref=outlook-calendar
STATUS:CONFIRMED
SEQUENCE:3
BEGIN:VALARM
TRIGGER:-PT10M
DESCRIPTION:Class Reminder
ACTION:DISPLAY
END:VALARM
END:VEVENT
END:VCALENDAR