BEGIN:VCALENDAR
VERSION:2.0
CALSCALE:GREGORIAN
BEGIN:VEVENT
URL:https://www.learndesk.us/class/6606029947142144/lesson/15b0c6a6ee16b77cb503b4b7200fa3d6?ref=outlook-calendar
SUMMARY:Styling our Package Boxes
DTSTART;TZID=America/Los_Angeles:20260422T190000
DTEND;TZID=America/Los_Angeles:20260422T200000
LOCATION:https://www.learndesk.us/class/6606029947142144/lesson/15b0c6a6ee16b77cb503b4b7200fa3d6?ref=outlook-calendar
DESCRIPTION: The links look fine, but the different plans also need individual styles. Time to add these in this video.

https://www.learndesk.us/class/6606029947142144/lesson/15b0c6a6ee16b77cb503b4b7200fa3d6?ref=outlook-calendar
STATUS:CONFIRMED
SEQUENCE:3
BEGIN:VALARM
TRIGGER:-PT10M
DESCRIPTION:Class Reminder
ACTION:DISPLAY
END:VALARM
END:VEVENT
END:VCALENDAR