BEGIN:VCALENDAR
VERSION:2.0
CALSCALE:GREGORIAN
BEGIN:VEVENT
URL:https://www.learndesk.us/class/6606029947142144/lesson/1437e5ace6784ae25dbb07a47da0a4b8?ref=outlook-calendar
SUMMARY:Adding CSS to our Project with Inline Styles
DTSTART;TZID=America/Los_Angeles:20260422T190000
DTEND;TZID=America/Los_Angeles:20260422T200000
LOCATION:https://www.learndesk.us/class/6606029947142144/lesson/1437e5ace6784ae25dbb07a47da0a4b8?ref=outlook-calendar
DESCRIPTION: The author shows you inline styles and how these allow us to change the look of our website.

https://www.learndesk.us/class/6606029947142144/lesson/1437e5ace6784ae25dbb07a47da0a4b8?ref=outlook-calendar
STATUS:CONFIRMED
SEQUENCE:3
BEGIN:VALARM
TRIGGER:-PT10M
DESCRIPTION:Class Reminder
ACTION:DISPLAY
END:VALARM
END:VEVENT
END:VCALENDAR