BEGIN:VCALENDAR
VERSION:2.0
CALSCALE:GREGORIAN
BEGIN:VEVENT
URL:https://www.learndesk.us/class/6606029947142144/lesson/136dfaa637eafdae24b01ef56d7faffc?ref=outlook-calendar
SUMMARY:Using "element-sizing", "repeat" and "minmax"
DTSTART;TZID=America/Los_Angeles:20260422T190000
DTEND;TZID=America/Los_Angeles:20260422T200000
LOCATION:https://www.learndesk.us/class/6606029947142144/lesson/136dfaa637eafdae24b01ef56d7faffc?ref=outlook-calendar
DESCRIPTION: Time to have a closer look at the layout of our CSS Grid. Let's see how we can impact the space needed by our elements by using some special CSS functions.

https://www.learndesk.us/class/6606029947142144/lesson/136dfaa637eafdae24b01ef56d7faffc?ref=outlook-calendar
STATUS:CONFIRMED
SEQUENCE:3
BEGIN:VALARM
TRIGGER:-PT10M
DESCRIPTION:Class Reminder
ACTION:DISPLAY
END:VALARM
END:VEVENT
END:VCALENDAR