BEGIN:VCALENDAR
VERSION:2.0
CALSCALE:GREGORIAN
BEGIN:VEVENT
URL:https://www.learndesk.us/class/6606029947142144/lesson/128656bee337c547e18fcdd77ecaeabc?ref=outlook-calendar
SUMMARY:Rotating Elements and setting transform-origin
DTSTART;TZID=America/Los_Angeles:20260422T190000
DTEND;TZID=America/Los_Angeles:20260422T200000
LOCATION:https://www.learndesk.us/class/6606029947142144/lesson/128656bee337c547e18fcdd77ecaeabc?ref=outlook-calendar
DESCRIPTION: Let's start with something exciting: Rotating elements via the rotate() method.

https://www.learndesk.us/class/6606029947142144/lesson/128656bee337c547e18fcdd77ecaeabc?ref=outlook-calendar
STATUS:CONFIRMED
SEQUENCE:3
BEGIN:VALARM
TRIGGER:-PT10M
DESCRIPTION:Class Reminder
ACTION:DISPLAY
END:VALARM
END:VEVENT
END:VCALENDAR