BEGIN:VCALENDAR
VERSION:2.0
CALSCALE:GREGORIAN
BEGIN:VEVENT
URL:https://www.learndesk.us/class/6606029947142144/lesson/10f497888ff6cefd25ea4b76ea3ec8d4?ref=outlook-calendar
SUMMARY:Writing Future-Proof CSS Code
DTSTART;TZID=America/Los_Angeles:20260422T190000
DTEND;TZID=America/Los_Angeles:20260422T200000
LOCATION:https://www.learndesk.us/class/6606029947142144/lesson/10f497888ff6cefd25ea4b76ea3ec8d4?ref=outlook-calendar
DESCRIPTION: 
In this section, we work with CSS Modules, variables and understand few prefixes for Browser support.

Module Introduction
CSS Modules and Their Working Groups
Using CSS Variables
Understanding and Using Vendor Prefixes
Which Prefixes Should You Use?
Detecting Browser Support with @supports
Polyfills
Eliminating Cross-Browser Inconsistencies
How to Name CSS Classes
Vanilla CSS vs Frameworks
Wrap Up



https://www.learndesk.us/class/6606029947142144/lesson/10f497888ff6cefd25ea4b76ea3ec8d4?ref=outlook-calendar
STATUS:CONFIRMED
SEQUENCE:3
BEGIN:VALARM
TRIGGER:-PT10M
DESCRIPTION:Class Reminder
ACTION:DISPLAY
END:VALARM
END:VEVENT
END:VCALENDAR