BEGIN:VCALENDAR
VERSION:2.0
CALSCALE:GREGORIAN
BEGIN:VEVENT
URL:https://www.learndesk.us/class/6606029947142144/lesson/1083930e993c8440e93cd8c1dce71b45?ref=outlook-calendar
SUMMARY:Rules to Remember: Absolute Positioning & "%"
DTSTART;TZID=America/Los_Angeles:20260424T190000
DTEND;TZID=America/Los_Angeles:20260424T200000
LOCATION:https://www.learndesk.us/class/6606029947142144/lesson/1083930e993c8440e93cd8c1dce71b45?ref=outlook-calendar
DESCRIPTION: The "fixed" value and the viewport, we understood that. But what about "absolute", what is the containing block and how does our element behave when we apply "position: absolute"?

https://www.learndesk.us/class/6606029947142144/lesson/1083930e993c8440e93cd8c1dce71b45?ref=outlook-calendar
STATUS:CONFIRMED
SEQUENCE:3
BEGIN:VALARM
TRIGGER:-PT10M
DESCRIPTION:Class Reminder
ACTION:DISPLAY
END:VALARM
END:VEVENT
END:VCALENDAR