BEGIN:VCALENDAR
VERSION:2.0
CALSCALE:GREGORIAN
BEGIN:VEVENT
URL:https://www.learndesk.us/class/6606029947142144/lesson/10311014ed9ab310a8041e515b34c4fc?ref=outlook-calendar
SUMMARY:Your Challenge - Working on the Mobile Navigation Bar
DTSTART;TZID=America/Los_Angeles:20260422T190000
DTEND;TZID=America/Los_Angeles:20260422T200000
LOCATION:https://www.learndesk.us/class/6606029947142144/lesson/10311014ed9ab310a8041e515b34c4fc?ref=outlook-calendar
DESCRIPTION: The desktop navigation bar is Flexbox "powered" now, but our mobile navigation bar should also be based on that newly learned approach. This is your chance, try to implement Flexbox for the mobile navigation bar and let's then have a look at my solution togethe.

https://www.learndesk.us/class/6606029947142144/lesson/10311014ed9ab310a8041e515b34c4fc?ref=outlook-calendar
STATUS:CONFIRMED
SEQUENCE:3
BEGIN:VALARM
TRIGGER:-PT10M
DESCRIPTION:Class Reminder
ACTION:DISPLAY
END:VALARM
END:VEVENT
END:VCALENDAR