BEGIN:VCALENDAR
VERSION:2.0
CALSCALE:GREGORIAN
BEGIN:VEVENT
URL:https://www.learndesk.us/class/6606029947142144/lesson/0e7e3962bec97b5d78269381de738ef9?ref=outlook-calendar
SUMMARY:Adding "rem" to Additional Properties
DTSTART;TZID=America/Los_Angeles:20260422T190000
DTEND;TZID=America/Los_Angeles:20260422T200000
LOCATION:https://www.learndesk.us/class/6606029947142144/lesson/0e7e3962bec97b5d78269381de738ef9?ref=outlook-calendar
DESCRIPTION: rem" and "em" depend on the font-size but their application is not limited to this single property. Let's see how we can add "rem" to other properties than "font-size" on our website.

https://www.learndesk.us/class/6606029947142144/lesson/0e7e3962bec97b5d78269381de738ef9?ref=outlook-calendar
STATUS:CONFIRMED
SEQUENCE:3
BEGIN:VALARM
TRIGGER:-PT10M
DESCRIPTION:Class Reminder
ACTION:DISPLAY
END:VALARM
END:VEVENT
END:VCALENDAR