BEGIN:VCALENDAR
VERSION:2.0
CALSCALE:GREGORIAN
BEGIN:VEVENT
URL:https://www.learndesk.us/class/6606029947142144/lesson/0e5643e52d2aad9da9f79001dc35425d?ref=outlook-calendar
SUMMARY:Working with "align-self"
DTSTART;TZID=America/Los_Angeles:20260422T190000
DTEND;TZID=America/Los_Angeles:20260422T200000
LOCATION:https://www.learndesk.us/class/6606029947142144/lesson/0e5643e52d2aad9da9f79001dc35425d?ref=outlook-calendar
DESCRIPTION: We learned about "align-content" and "align-items" for the Flex Container. In this lecture, it's time to find out how we can change the position of a single Flex Item inside a Flex Container by using "align-self".

https://www.learndesk.us/class/6606029947142144/lesson/0e5643e52d2aad9da9f79001dc35425d?ref=outlook-calendar
STATUS:CONFIRMED
SEQUENCE:3
BEGIN:VALARM
TRIGGER:-PT10M
DESCRIPTION:Class Reminder
ACTION:DISPLAY
END:VALARM
END:VEVENT
END:VCALENDAR