BEGIN:VCALENDAR
VERSION:2.0
CALSCALE:GREGORIAN
BEGIN:VEVENT
URL:https://www.learndesk.us/class/6606029947142144/lesson/0dcd70b310ea9658d680ce485682b6db?ref=outlook-calendar
SUMMARY:Restyling the Form Elements
DTSTART;TZID=America/Los_Angeles:20260423T190000
DTEND;TZID=America/Los_Angeles:20260423T200000
LOCATION:https://www.learndesk.us/class/6606029947142144/lesson/0dcd70b310ea9658d680ce485682b6db?ref=outlook-calendar
DESCRIPTION: Let's continue our work on the form.

https://www.learndesk.us/class/6606029947142144/lesson/0dcd70b310ea9658d680ce485682b6db?ref=outlook-calendar
STATUS:CONFIRMED
SEQUENCE:3
BEGIN:VALARM
TRIGGER:-PT10M
DESCRIPTION:Class Reminder
ACTION:DISPLAY
END:VALARM
END:VEVENT
END:VCALENDAR